BEGIN:VCALENDAR
VERSION:2.0
PRODID:-//Gabrielle Senza - ECPv6.15.20//NONSGML v1.0//EN
CALSCALE:GREGORIAN
METHOD:PUBLISH
X-ORIGINAL-URL:https://gabriellesenza.com
X-WR-CALDESC:Events for Gabrielle Senza
REFRESH-INTERVAL;VALUE=DURATION:PT1H
X-Robots-Tag:noindex
X-PUBLISHED-TTL:PT1H
BEGIN:VTIMEZONE
TZID:Europe/London
BEGIN:DAYLIGHT
TZOFFSETFROM:+0000
TZOFFSETTO:+0100
TZNAME:BST
DTSTART:20250330T010000
END:DAYLIGHT
BEGIN:STANDARD
TZOFFSETFROM:+0100
TZOFFSETTO:+0000
TZNAME:GMT
DTSTART:20251026T010000
END:STANDARD
BEGIN:DAYLIGHT
TZOFFSETFROM:+0000
TZOFFSETTO:+0100
TZNAME:BST
DTSTART:20260329T010000
END:DAYLIGHT
BEGIN:STANDARD
TZOFFSETFROM:+0100
TZOFFSETTO:+0000
TZNAME:GMT
DTSTART:20261025T010000
END:STANDARD
BEGIN:DAYLIGHT
TZOFFSETFROM:+0000
TZOFFSETTO:+0100
TZNAME:BST
DTSTART:20270328T010000
END:DAYLIGHT
BEGIN:STANDARD
TZOFFSETFROM:+0100
TZOFFSETTO:+0000
TZNAME:GMT
DTSTART:20271031T010000
END:STANDARD
END:VTIMEZONE
BEGIN:VEVENT
DTSTART;TZID=Europe/London:20260424T100000
DTEND;TZID=Europe/London:20260424T120000
DTSTAMP:20260418T171628
CREATED:20260408T092050Z
LAST-MODIFIED:20260415T000344Z
UID:4465-1777024800-1777032000@gabriellesenza.com
SUMMARY:I Must Be Invisible: A Laboratory of Belonging
DESCRIPTION:A live experiment in seeing and being seen.\n\n\n\nHave you ever felt invisible?\nOr wished you could disappear?\nThis is a paradox many of us navigate every day. Our need to be seen conflicts with our need for safety; our longing for connection bumps up against the fear of exposure. \nJoin us in the In/Visibility Lab for a lively exploration of this very paradox. For over 25 years\, artist and facilitator Gabrielle Senza has investigated the phenomenon of invisibility as a lived experience. This workshop starts from a place of personal erasure—by inviting you to briefly write and reflect on your own experience—to explore our universal need for belonging. It unfolds from a personal monologue into a shared\, participatory inquiry. \nA Performance Lecture & Workshop on Belonging\nBlending live performance\, original music\, and guided audience interaction\, this gathering examines the complex forces that make us visible or invisible to one another\, and how those forces define the boundaries of our belonging. \nAssisted by ‘Lab Technician’ Dan Ruderman\, Gabrielle facilitates a container for collective witnessing. \nIn the In/Visibility Lab\, we don’t seek simple answers. We create a space for deeper questions: When does visibility mean connection? When does it mean risk? And how can understanding this dynamic help us see ourselves—and each other—more compassionately? \nThis gathering is designed for: \n\nAnyone who has navigated the complex dynamics of being seen or unseen.\nAdvocates and community builders interested in empathy and authentic connection.\nIndividuals looking for meaningful\, creative dialogue.\n\nYou’ll discover: \n\nA new perspective on visibility in your life.\nThe connection found in shared\, creative questioning.\nThe opportunity to contribute to the Archive of Invisible Things.\n\n\nEvent Details\nWe’ll be gathering at the CitizenM Hotel in the heart of Times Square—a modern\, intimate space to step away from the city’s constant gaze and turn our attention inward. \n🎟 Click Here for Tickets!\nPLEASE NOTE: We’ll start gathering at 12:00 PM. The session will begin promptly at 12:30 PM. Additional venue details will be provided after registration. \n______ \nWhat Participants Are Saying\nYour mindset\, Gabrielle\, as a feminist\, creates a poetic\, participatory way of knowing—rooted in care. In my mind\, you are the creator of sacred spaces for others. This matters.\n– Leah K. \nIt was an empowering session\, and everyone was so open and got vulnerable which contributed to its magic. I highly recommend it to anyone willing to explore these concepts and dig deeper.\n– Anna D. \n______ \nA Note From Your Host\nThe In/Visibility Lab was born from a long-term artistic investigation into one of humanity’s most fundamental conditions: the longing to be seen\, heard\, and appreciated. After facilitating this work internationally\, I am now offering small group sessions in my Berkshire studio and other intimate spaces in the United States. This is a laboratory for creative inquiry and human connection\, designed for those who feel called to explore these questions in a thoughtfully held environment. ~ Gabrielle
URL:https://gabriellesenza.com/event/laboratory-of-belonging-london/
LOCATION:citizenM London Bankside\, 20 Lavington Street\, London\, SE1 0NZ\, United Kingdom
ATTACH;FMTTYPE=image/png:https://gabriellesenza.com/wp-content/uploads/2026/04/EVENTBRITE-HEADER-TEMPLATE-WRB2.png
ORGANIZER;CN="INVISIBILITY LAB | Gabrielle Senza":MAILTO:gsenza@mac.com
END:VEVENT
END:VCALENDAR